BEGIN:VCALENDAR
VERSION:2.0
PRODID:spatie/icalendar-generator
DESCRIPTION:Events from Division of Coastal Resources Management
X-WR-CALDESC:Events from Division of Coastal Resources Management
REFRESH-INTERVAL;VALUE=DURATION:PT1440M
X-PUBLISHED-TTL:PT1440M
BEGIN:VTIMEZONE
TZID:Etc/GMT-10
BEGIN:STANDARD
DTSTART:20230624T143000Z
TZOFFSETFROM:+1000
TZOFFSETTO:+1000
END:STANDARD
END:VTIMEZONE
BEGIN:VTIMEZONE
TZID:UTC
BEGIN:STANDARD
DTSTART:20250728T054857Z
TZOFFSETFROM:+0000
TZOFFSETTO:+0000
END:STANDARD
END:VTIMEZONE
BEGIN:VEVENT
UID:263-178
DTSTAMP:20260424T054857Z
SUMMARY:Notice of Public Hearing: Municipality of Tinian and Aguiguan
LOCATION:
ORGANIZER;CN=Permitting_Jovahna:MAILTO:jflores@dcrm.gov.mp
DTSTART;TZID=Etc/GMT-10:20260305T170000
DTEND;TZID=Etc/GMT-10:20260305T180000
X-ALT-DESC;FMTTYPE=TEXT/HTML:
CATEGORIES:Public Hearing,  Permitting
URL;VALUE=URI:https://dcrm.gov.mp/mc-events/notice-of-public-hearing-munici
 pality-of-tinian-and-aguiguan-2/?mc_id=263
END:VEVENT
BEGIN:VEVENT
UID:261-176
DTSTAMP:20260424T054857Z
SUMMARY:Notice of Public Hearing - Municipality of Tinian and Aguiguan
LOCATION:
ORGANIZER;CN=Permitting_Jovahna:MAILTO:jflores@dcrm.gov.mp
DTSTART;TZID=Etc/GMT-10:20260305T000000
DTEND;TZID=Etc/GMT-10:20260305T010000
X-ALT-DESC;FMTTYPE=TEXT/HTML:[pdf-embedder url=\"https://dcrm.gov.mp/wp-con
 tent/uploads/crm/02122026-02132026_Notice-of-Public-Hearing_Municipality-o
 f-Tinian-and-Aguiguan.pdf\" title=\"02122026 &amp;amp\; 02132026_Notice of Pub
 lic Hearing_Municipality of Tinian and Aguiguan\"]
CATEGORIES:Public Hearing
URL;VALUE=URI:https://dcrm.gov.mp/mc-events/notice-of-public-hearing-munici
 pality-of-tinian-and-aguiguan/?mc_id=261
END:VEVENT
BEGIN:VEVENT
UID:262-177
DTSTAMP:20260424T054857Z
SUMMARY:Meeting of the CRM Agency Officials
LOCATION:
ORGANIZER;CN=Permitting_Jovahna:MAILTO:jflores@dcrm.gov.mp
DTSTART;TZID=Etc/GMT-10:20260217T000000
DTEND;TZID=Etc/GMT-10:20260217T010000
X-ALT-DESC;FMTTYPE=TEXT/HTML:[pdf-embedder url=\"https://dcrm.gov.mp/wp-con
 tent/uploads/crm/02172026-Mvariety_CUC_Board-Meeting.pdf\" title=\"0217202
 6 Mvariety_CUC_Board Meeting\"]
CATEGORIES:Meeting of the CRM Agency Officials
URL;VALUE=URI:https://dcrm.gov.mp/mc-events/meeting-of-the-crm-agency-offic
 ials-16/?mc_id=262
END:VEVENT
BEGIN:VEVENT
UID:260-175
DTSTAMP:20260424T054857Z
SUMMARY:Notice of Public Hearing - CUC
LOCATION:
ORGANIZER;CN=Permitting_Jovahna:MAILTO:jflores@dcrm.gov.mp
DTSTART;TZID=Etc/GMT-10:20260210T000000
DTEND;TZID=Etc/GMT-10:20260210T010000
X-ALT-DESC;FMTTYPE=TEXT/HTML:[pdf-embedder url=\"https://dcrm.gov.mp/wp-con
 tent/uploads/crm/01262026-01272026_Notice-of-Public-Hearing_CUC-1.2-MW-Pho
 tovoltaic-System_layout.pdf\" title=\"01262026 &amp;amp\; 01272026_Notice of P
 ublic Hearing_CUC 1.2 MW Photovoltaic System_layout\"]
CATEGORIES:Public Hearing
URL;VALUE=URI:https://dcrm.gov.mp/mc-events/notice-of-public-hearing-cuc/?m
 c_id=260
END:VEVENT
BEGIN:VEVENT
UID:259-174
DTSTAMP:20260424T054858Z
SUMMARY:Notice of Application
LOCATION:
ORGANIZER;CN=Permitting_Jovahna:MAILTO:jflores@dcrm.gov.mp
DTSTART;TZID=Etc/GMT-10:20260130T000000
DTEND;TZID=Etc/GMT-10:20260130T010000
X-ALT-DESC;FMTTYPE=TEXT/HTML:[pdf-embedder url=\"https://dcrm.gov.mp/wp-con
 tent/uploads/crm/01302025-Notice-of-Application.pdf\" title=\"01302025 Not
 ice of Application\"]
CATEGORIES:Permitting
URL;VALUE=URI:https://dcrm.gov.mp/mc-events/notice-of-application-3/?mc_id=
 259
END:VEVENT
BEGIN:VEVENT
UID:258-173
DTSTAMP:20260424T054858Z
SUMMARY:Notice of Application
LOCATION:
ORGANIZER;CN=Permitting_Jovahna:MAILTO:jflores@dcrm.gov.mp
DTSTART;TZID=Etc/GMT-10:20260115T000000
DTEND;TZID=Etc/GMT-10:20260115T010000
X-ALT-DESC;FMTTYPE=TEXT/HTML:[pdf-embedder url=\"https://dcrm.gov.mp/wp-con
 tent/uploads/crm/01152026-Mvariety_NOA.pdf\" title=\"01152026 Mvariety_NOA
 \"]
CATEGORIES:Permitting
URL;VALUE=URI:https://dcrm.gov.mp/mc-events/notice-of-application-2/?mc_id=
 258
END:VEVENT
BEGIN:VEVENT
UID:257-172
DTSTAMP:20260424T054858Z
SUMMARY:Notice of Application
LOCATION:
ORGANIZER;CN=Permitting_Jovahna:MAILTO:jflores@dcrm.gov.mp
DTSTART;TZID=Etc/GMT-10;VALUE=DATE:20260213
DTEND;TZID=Etc/GMT-10;VALUE=DATE:20260214
X-ALT-DESC;FMTTYPE=TEXT/HTML:[pdf-embedder url=\"https://dcrm.gov.mp/wp-con
 tent/uploads/crm/01152026-Mvariety_NOA.pdf\" title=\"01152026 Mvariety_NOA
 \"]
CATEGORIES:Permitting
URL;VALUE=URI:https://dcrm.gov.mp/mc-events/notice-of-application/?mc_id=25
 7
END:VEVENT
BEGIN:VEVENT
UID:256-171
DTSTAMP:20260424T054858Z
SUMMARY:Public Hearing - Hopwood Middle School
LOCATION:
ORGANIZER;CN=Permitting_Jovahna:MAILTO:jflores@dcrm.gov.mp
DTSTART;TZID=Etc/GMT-10:20251106T170000
DTEND;TZID=Etc/GMT-10:20251106T180000
X-ALT-DESC;FMTTYPE=TEXT/HTML:
CATEGORIES:Public Hearing
URL;VALUE=URI:https://dcrm.gov.mp/mc-events/public-hearing-hopwood-middle-s
 chool/?mc_id=256
END:VEVENT
BEGIN:VEVENT
UID:255-170
DTSTAMP:20260424T054858Z
SUMMARY:MEETING OF THE CRM AGENCY OFFICIALS
LOCATION:
ORGANIZER;CN=Permitting_Jovahna:MAILTO:jflores@dcrm.gov.mp
DTSTART;TZID=Etc/GMT-10:20251028T143000
DTEND;TZID=Etc/GMT-10:20251028T153000
X-ALT-DESC;FMTTYPE=TEXT/HTML:[pdf-embedder url=\"https://dcrm.gov.mp/wp-con
 tent/uploads/crm/10427-BECQ-CRM-102425-3.pdf\" title=\"10427 BECQ-CRM 1024
 25 (3)\"]
CATEGORIES:Board Meeting,  Meeting of the CRM Agency Officials
URL;VALUE=URI:https://dcrm.gov.mp/mc-events/meeting-of-the-crm-agency-offic
 ials-15/?mc_id=255
END:VEVENT
BEGIN:VEVENT
UID:254-169
DTSTAMP:20260424T054858Z
SUMMARY:Notice of Public Hearing - DCCA Oleai Sports Complex and Cultural E
 vents Center Facilities Development
LOCATION:
ORGANIZER;CN=Permitting_Jovahna:MAILTO:jflores@dcrm.gov.mp
DTSTART;TZID=Etc/GMT-10:20251024T170000
DTEND;TZID=Etc/GMT-10:20251024T180000
X-ALT-DESC;FMTTYPE=TEXT/HTML:[pdf-embedder url=\"https://dcrm.gov.mp/wp-con
 tent/uploads/crm/Oleai-Sports-Complex.pdf\" title=\"Oleai Sports Complex\"
 ]
CATEGORIES:Public Hearing,  Permitting
URL;VALUE=URI:https://dcrm.gov.mp/mc-events/notice-of-public-hearing-dcca-o
 leai-sports-complex-and-cultural-events-center-facilities-development/?mc_
 id=254
END:VEVENT
BEGIN:VEVENT
UID:252-168
DTSTAMP:20260424T054858Z
SUMMARY:Special Meeting of the CRM Agency Officials
LOCATION:
ORGANIZER;CN=Permitting_Jovahna:MAILTO:jflores@dcrm.gov.mp
DTSTART;TZID=Etc/GMT-10:20250926T103000
DTEND;TZID=Etc/GMT-10:20250926T113000
X-ALT-DESC;FMTTYPE=TEXT/HTML:
CATEGORIES:Permitting,  Meeting of the CRM Agency Officials
URL;VALUE=URI:https://dcrm.gov.mp/mc-events/special-meeting-of-the-crm-agen
 cy-officials/?mc_id=252
END:VEVENT
BEGIN:VEVENT
UID:249-165
DTSTAMP:20260424T054858Z
SUMMARY:Notice of Board Meeting for Major Siting Application Nos. SMS-87-X-
 036-A1 &amp;amp\; SMS-2025-022
LOCATION:
ORGANIZER;CN=Permitting_Jovahna:MAILTO:jflores@dcrm.gov.mp
DTSTART;TZID=Etc/GMT-10:20250722T143000
DTEND;TZID=Etc/GMT-10:20250722T153000
X-ALT-DESC;FMTTYPE=TEXT/HTML:[pdf-embedder url=\"https://dcrm.gov.mp/wp-con
 tent/uploads/crm/BECQ-DCRM-Meeting-Notice-07172025.pdf\" title=\"BECQ DCRM
  Meeting Notice 07172025\"]
CATEGORIES:Meeting of the CRM Agency Officials,  Permitting
URL;VALUE=URI:https://dcrm.gov.mp/mc-events/notice-of-board-meeting-for-maj
 or-siting-application-nos-sms-87-x-036-a1-sms-2025-022/?mc_id=249
END:VEVENT
BEGIN:VEVENT
UID:248-164
DTSTAMP:20260424T054858Z
SUMMARY:Notice of Public Hearing for Major Siting Application Nos. SMS-87-X
 -036-A1 &amp;amp\; SMS-2025-022
LOCATION:
ORGANIZER;CN=Permitting_Jovahna:MAILTO:jflores@dcrm.gov.mp
DTSTART;TZID=Etc/GMT-10:20250715T170000
DTEND;TZID=Etc/GMT-10:20250715T180000
X-ALT-DESC;FMTTYPE=TEXT/HTML:[pdf-embedder url=\"https://dcrm.gov.mp/wp-con
 tent/uploads/crm/06252025-06262025-Notice-of-Public-Hearing_MHC-CTEC-DELTA
 -DOCK_Layout.pdf\" title=\"06252025 &amp;amp\; 06262025 Notice of Public Heari
 ng_MHC CTEC &amp;amp\; DELTA DOCK_Layout\"]
CATEGORIES:Permitting,  Public Hearing
URL;VALUE=URI:https://dcrm.gov.mp/mc-events/notice-of-public-hearing-for-ma
 jor-siting-application-nos-sms-87-x-036-a1-sms-2025-022-2/?mc_id=248
END:VEVENT
BEGIN:VEVENT
UID:247-163
DTSTAMP:20260424T054858Z
SUMMARY:Notice of Public Hearing for Major Siting Application Nos. SMS-87-X
 -036-A1 &amp;amp\; SMS-2025-022
LOCATION:
ORGANIZER;CN=Permitting_Jovahna:MAILTO:jflores@dcrm.gov.mp
DTSTART;TZID=Etc/GMT-10;VALUE=DATE:20250716
DTEND;TZID=Etc/GMT-10;VALUE=DATE:20250717
X-ALT-DESC;FMTTYPE=TEXT/HTML:[pdf-embedder url=\"https://dcrm.gov.mp/wp-con
 tent/uploads/crm/06252025-06262025-Notice-of-Public-Hearing_MHC-CTEC-DELTA
 -DOCK_Layout.pdf\" title=\"06252025 &amp;amp\; 06262025 Notice of Public Heari
 ng_MHC CTEC &amp;amp\; DELTA DOCK_Layout\"]
CATEGORIES:2019 DCRM Summer Intern Activity
URL;VALUE=URI:https://dcrm.gov.mp/mc-events/notice-of-public-hearing-for-ma
 jor-siting-application-nos-sms-87-x-036-a1-sms-2025-022/?mc_id=247
END:VEVENT
BEGIN:VEVENT
UID:246-162
DTSTAMP:20260424T054858Z
SUMMARY:Notice of DCRM Office Closure - June 4\, 2025 - CNMI Ocean Month Pr
 oclamation Ceremony and Roadside Waving
LOCATION:
ORGANIZER;CN=Permitting_Jovahna:MAILTO:jflores@dcrm.gov.mp
DTSTART;TZID=Etc/GMT-10:20250604T143000
DTEND;TZID=Etc/GMT-10:20250604T153000
X-ALT-DESC;FMTTYPE=TEXT/HTML:[pdf-embedder url=\"https://dcrm.gov.mp/wp-con
 tent/uploads/crm/BECQ-DCRM-Office-Closure-06032025.pdf\" title=\"BECQ DCRM
  Office Closure 06032025\"]
CATEGORIES:Permitting,  CNMI Ocean Month,  General
URL;VALUE=URI:https://dcrm.gov.mp/mc-events/notice-of-dcrm-office-closure-j
 une-4-2025-cnmi-ocean-month-proclamation-ceremony-and-roadside-waving/?mc_
 id=246
END:VEVENT
BEGIN:VEVENT
UID:245-161
DTSTAMP:20260424T054858Z
SUMMARY:Meeting of the CRM Agency Officials
LOCATION:
ORGANIZER;CN=Permitting_Jovahna:MAILTO:jflores@dcrm.gov.mp
DTSTART;TZID=Etc/GMT-10;VALUE=DATE:20250408
DTEND;TZID=Etc/GMT-10;VALUE=DATE:20250409
X-ALT-DESC;FMTTYPE=TEXT/HTML:[pdf-embedder url=\"https://dcrm.gov.mp/wp-con
 tent/uploads/crm/04022025-Notice-of-Board-Meeting_Layout-1.pdf\" title=\"0
 4022025 Notice of Board Meeting_Layout\"]
CATEGORIES:Permitting,  Meeting of the CRM Agency Officials
URL;VALUE=URI:https://dcrm.gov.mp/mc-events/meeting-of-the-crm-agency-offic
 ials-14/?mc_id=245
END:VEVENT
BEGIN:VEVENT
UID:243-160
DTSTAMP:20260424T054858Z
SUMMARY:Public Hearing: TMS-2025-020 Resources Management International Cor
 poration\; Quarry Operations
LOCATION:
ORGANIZER;CN=Permitting_Jovahna:MAILTO:jflores@dcrm.gov.mp
DTSTART;TZID=Etc/GMT-10:20250403T170000
DTEND;TZID=Etc/GMT-10:20250403T180000
X-ALT-DESC;FMTTYPE=TEXT/HTML:View Notice
CATEGORIES:Permitting,  Public Hearing
URL;VALUE=URI:https://dcrm.gov.mp/mc-events/public-hearing-tms-2025-020-res
 ources-management-international-corporation-quarry-operations/?mc_id=243
END:VEVENT
BEGIN:VEVENT
UID:242-159
DTSTAMP:20260424T054858Z
SUMMARY:Public Hearing: SMS-2025-018 DOF Economic Resiliency Center
LOCATION:
ORGANIZER;CN=Permitting_Jovahna:MAILTO:jflores@dcrm.gov.mp
DTSTART;TZID=Etc/GMT-10:20250402T170000
DTEND;TZID=Etc/GMT-10:20250402T180000
X-ALT-DESC;FMTTYPE=TEXT/HTML:View Notice
CATEGORIES:Permitting,  Public Hearing
URL;VALUE=URI:https://dcrm.gov.mp/mc-events/public-hearing-sms-2025-018-dof
 -economic-resiliency-center/?mc_id=242
END:VEVENT
BEGIN:VEVENT
UID:241-158
DTSTAMP:20260424T054858Z
SUMMARY:Notice of DCRM Office Closure - Strategic and Communications Plan W
 orkshop
LOCATION:
ORGANIZER;CN=Permitting_Jovahna:MAILTO:jflores@dcrm.gov.mp
DTSTART;TZID=Etc/GMT-10;VALUE=DATE:20250124
DTEND;TZID=Etc/GMT-10;VALUE=DATE:20250125
X-ALT-DESC;FMTTYPE=TEXT/HTML:View Notice
CATEGORIES:General
URL;VALUE=URI:https://dcrm.gov.mp/mc-events/notice-of-dcrm-office-closure-s
 trategic-and-communications-plan-workshop/?mc_id=241
END:VEVENT
BEGIN:VEVENT
UID:240-157
DTSTAMP:20260424T054858Z
SUMMARY:DCRM Office Closure - Strategic and Communications Plan Workshop
LOCATION:
ORGANIZER;CN=Permitting_Jovahna:MAILTO:jflores@dcrm.gov.mp
DTSTART;TZID=Etc/GMT-10;VALUE=DATE:20250124
DTEND;TZID=Etc/GMT-10;VALUE=DATE:20250125
X-ALT-DESC;FMTTYPE=TEXT/HTML:View Notice
CATEGORIES:General
URL;VALUE=URI:https://dcrm.gov.mp/mc-events/dcrm-office-closure-strategic-a
 nd-communications-plan-workshop/?mc_id=240
END:VEVENT
BEGIN:VEVENT
UID:238-156
DTSTAMP:20260424T054858Z
SUMMARY:MEETING OF CRM AGENCY OFFICIALS: VISTA HOMES\, LLC. - 46-UNIT RESID
 ENTIAL DUPLEX APARTMENTS
LOCATION:
ORGANIZER;CN=Permitting_Jovahna:MAILTO:jflores@dcrm.gov.mp
DTSTART;TZID=Etc/GMT-10:20241212T143000
DTEND;TZID=Etc/GMT-10:20241212T153000
X-ALT-DESC;FMTTYPE=TEXT/HTML:View Notice
CATEGORIES:Permitting,  Meeting of the CRM Agency Officials
URL;VALUE=URI:https://dcrm.gov.mp/mc-events/meeting-of-crm-agency-officials
 -vista-homes-llc-46-unit-residential-duplex-apartments-2/?mc_id=238
END:VEVENT
BEGIN:VEVENT
UID:236-154
DTSTAMP:20260424T054858Z
SUMMARY:5:00PM: CRM PUBLIC HEARING
LOCATION:
ORGANIZER;CN=Primrose Taitano:MAILTO:ptaitano@dcrm.gov.mp
DTSTART;TZID=Etc/GMT-10:20241210T170000
DTEND;TZID=Etc/GMT-10:20241210T180000
X-ALT-DESC;FMTTYPE=TEXT/HTML:View Notice
CATEGORIES:Permitting,  Public Hearing
URL;VALUE=URI:https://dcrm.gov.mp/mc-events/500pm-crm-public-hearing/?mc_id
 =236
END:VEVENT
BEGIN:VEVENT
UID:235-153
DTSTAMP:20260424T054858Z
SUMMARY:MEETING OF CRM AGENCY OFFICIALS: DEPARTMENT OF PUBLIC WORKS (DPW) -
  ROTA ROUTE 103 &amp;amp\; DRAINAGE IMPROVEMENT PROJECT
LOCATION:
ORGANIZER;CN=Permitting_Jovahna:MAILTO:jflores@dcrm.gov.mp
DTSTART;TZID=Etc/GMT-10:20240828T143000
DTEND;TZID=Etc/GMT-10:20240828T153000
X-ALT-DESC;FMTTYPE=TEXT/HTML:View Notice
CATEGORIES:Permitting,  Meeting of the CRM Agency Officials
URL;VALUE=URI:https://dcrm.gov.mp/mc-events/meeting-of-crm-agency-officials
 -department-of-public-works-dpw-rota-route-103-drainage-improvement-projec
 t/?mc_id=235
END:VEVENT
BEGIN:VEVENT
UID:234-152
DTSTAMP:20260424T054858Z
SUMMARY:NOTICE OF CRM PUBLIC HEARING: DEPARTMENT OF PUBLIC WORKS (DPW) - RO
 TA ROUTE 103 &amp;amp\; DRIANAGE IMPROVEMENT PROJECT
LOCATION:
ORGANIZER;CN=Permitting_Jovahna:MAILTO:jflores@dcrm.gov.mp
DTSTART;TZID=Etc/GMT-10:20240821T170000
DTEND;TZID=Etc/GMT-10:20240821T180000
X-ALT-DESC;FMTTYPE=TEXT/HTML:View Notice
CATEGORIES:Permitting,  Public Hearing
URL;VALUE=URI:https://dcrm.gov.mp/mc-events/notice-of-crm-public-hearing-de
 partment-of-public-works-dpw-rota-route-103-drianage-improvement-project/?
 mc_id=234
END:VEVENT
BEGIN:VEVENT
UID:233-151
DTSTAMP:20260424T054858Z
SUMMARY:MEETING OF CRM AGENCY OFFICIALS: HAWAIIAN ROCK PRODUCTS - EXPANSION
  OF HAWAIIAN ROCK QUARRY OPERATIONS
LOCATION:
ORGANIZER;CN=Permitting_Jovahna:MAILTO:jflores@dcrm.gov.mp
DTSTART;TZID=Etc/GMT-10:20240709T143000
DTEND;TZID=Etc/GMT-10:20240709T153000
X-ALT-DESC;FMTTYPE=TEXT/HTML:View Notice
CATEGORIES:Permitting,  Meeting of the CRM Agency Officials
URL;VALUE=URI:https://dcrm.gov.mp/mc-events/meeting-of-crm-agency-officials
 -hawaiian-rock-products-expansion-of-hawaiian-rock-quarry-operations/?mc_i
 d=233
END:VEVENT
BEGIN:VEVENT
UID:232-150
DTSTAMP:20260424T054858Z
SUMMARY:NOTICE OF CRM PUBLIC HEARING: HAWAIIAN ROCK PRODUCTS - HAWAIIAN ROC
 K TINIAN QUARRY EXPANSION
LOCATION:
ORGANIZER;CN=Permitting_Jovahna:MAILTO:jflores@dcrm.gov.mp
DTSTART;TZID=Etc/GMT-10:20240702T170000
DTEND;TZID=Etc/GMT-10:20240702T180000
X-ALT-DESC;FMTTYPE=TEXT/HTML:View Notice
CATEGORIES:Public Hearing,  Permitting
URL;VALUE=URI:https://dcrm.gov.mp/mc-events/notice-of-crm-public-hearing-ha
 waiian-rock-products-hawaiian-rock-tinian-quarry-expansion/?mc_id=232
END:VEVENT
BEGIN:VEVENT
UID:231-149
DTSTAMP:20260424T054858Z
SUMMARY:MEETING OF CRM AGENCY OFFICIALS: DEPARTMENT OF PUBLIC WORKS (DPW) -
  TINIAN ROUTE 205 IMPROVEMENT PROJECT
LOCATION:
ORGANIZER;CN=Permitting_Jovahna:MAILTO:jflores@dcrm.gov.mp
DTSTART;TZID=Etc/GMT-10:20240618T143000
DTEND;TZID=Etc/GMT-10:20240618T153000
X-ALT-DESC;FMTTYPE=TEXT/HTML:View Notice
CATEGORIES:Meeting of the CRM Agency Officials,  Permitting
URL;VALUE=URI:https://dcrm.gov.mp/mc-events/meeting-of-crm-agency-officials
 -department-of-public-works-dpw-tinian-route-205-improvement-project/?mc_i
 d=231
END:VEVENT
BEGIN:VEVENT
UID:230-148
DTSTAMP:20260424T054858Z
SUMMARY:CRM PUBLIC HEARING
LOCATION:
ORGANIZER;CN=Primrose Taitano:MAILTO:ptaitano@dcrm.gov.mp
DTSTART;TZID=Etc/GMT-10:20240611T170000
DTEND;TZID=Etc/GMT-10:20240611T180000
X-ALT-DESC;FMTTYPE=TEXT/HTML:View Notice
CATEGORIES:Public Hearing,  Permitting
URL;VALUE=URI:https://dcrm.gov.mp/mc-events/crm-public-hearing-3/?mc_id=230
END:VEVENT
BEGIN:VEVENT
UID:229-147
DTSTAMP:20260424T054858Z
SUMMARY:CRM PUBLIC HEARING
LOCATION:
ORGANIZER;CN=Primrose Taitano:MAILTO:ptaitano@dcrm.gov.mp
DTSTART;TZID=Etc/GMT-10:20240523T170000
DTEND;TZID=Etc/GMT-10:20240523T180000
X-ALT-DESC;FMTTYPE=TEXT/HTML:View Notice
CATEGORIES:Permitting,  Public Hearing
URL;VALUE=URI:https://dcrm.gov.mp/mc-events/crm-public-hearing-2/?mc_id=229
END:VEVENT
BEGIN:VEVENT
UID:225-144
DTSTAMP:20260424T054858Z
SUMMARY:MEETING OF THE CRM AGENCY OFFICIALS
LOCATION:
ORGANIZER;CN=Primrose Taitano:MAILTO:ptaitano@dcrm.gov.mp
DTSTART;TZID=Etc/GMT-10:20240320T143000
DTEND;TZID=Etc/GMT-10:20240320T153000
X-ALT-DESC;FMTTYPE=TEXT/HTML:
CATEGORIES:Permitting,  Meeting of the CRM Agency Officials
URL;VALUE=URI:https://dcrm.gov.mp/mc-events/meeting-of-the-crm-agency-offic
 ials-13/?mc_id=225
END:VEVENT
END:VCALENDAR